BEGIN:VCALENDAR
VERSION:2.0
PRODID:-//Participación Ciudadana - ECPv6.13.2.1//NONSGML v1.0//EN
CALSCALE:GREGORIAN
METHOD:PUBLISH
X-ORIGINAL-URL:https://pciudadana.org
X-WR-CALDESC:Eventos para Participación Ciudadana
REFRESH-INTERVAL;VALUE=DURATION:PT1H
X-Robots-Tag:noindex
X-PUBLISHED-TTL:PT1H
BEGIN:VTIMEZONE
TZID:America/Santo_Domingo
BEGIN:STANDARD
TZOFFSETFROM:-0400
TZOFFSETTO:-0400
TZNAME:AST
DTSTART:20250101T000000
END:STANDARD
END:VTIMEZONE
BEGIN:VEVENT
DTSTART;TZID=America/Santo_Domingo:20251011T090000
DTEND;TZID=America/Santo_Domingo:20251011T150000
DTSTAMP:20260421T204703
CREATED:20250929T131102Z
LAST-MODIFIED:20250929T140911Z
UID:15868-1760173200-1760194800@pciudadana.org
SUMMARY:Encuentro por una Estrategia Climática Justa
DESCRIPTION:Encuentro por una Estrategia Climática Justa\n 
URL:https://pciudadana.org/event/encuentro-por-una-estrategia-climatica-justa/
CATEGORIES:Taller
ATTACH;FMTTYPE=image/png:https://pciudadana.org/wp-content/uploads/2025/10/Encuentro-Regional-Norte-San-Francisco-de-Macoris.png
END:VEVENT
END:VCALENDAR