BEGIN:VCALENDAR
VERSION:2.0
PRODID:-//Participación Ciudadana - ECPv6.13.2.1//NONSGML v1.0//EN
CALSCALE:GREGORIAN
METHOD:PUBLISH
X-WR-CALNAME:Participación Ciudadana
X-ORIGINAL-URL:https://pciudadana.org
X-WR-CALDESC:Eventos para Participación Ciudadana
REFRESH-INTERVAL;VALUE=DURATION:PT1H
X-Robots-Tag:noindex
X-PUBLISHED-TTL:PT1H
BEGIN:VTIMEZONE
TZID:America/Santo_Domingo
BEGIN:STANDARD
TZOFFSETFROM:-0400
TZOFFSETTO:-0400
TZNAME:AST
DTSTART:20260101T000000
END:STANDARD
END:VTIMEZONE
BEGIN:VEVENT
DTSTART;VALUE=DATE:20260505
DTEND;VALUE=DATE:20260506
DTSTAMP:20260422T041235
CREATED:20260421T184752Z
LAST-MODIFIED:20260421T184752Z
UID:16287-1777939200-1778025599@pciudadana.org
SUMMARY:Curso virtual “Democracia y Derechos Humanos: una mirada desde la Juventud”
DESCRIPTION:Si quieres entender mejor cómo funciona la democracia\, conocer herramientas reales de participación y aprender cómo incidir para generar cambios\, este espacio es para ti. Participa en el curso virtual “Democracia y Derechos Humanos: una mirada desde la juventud”. Regístrate aquí: https://forms.gle/WXbiLdkdwHQQmsLT9
URL:https://pciudadana.org/event/curso-virtual-democracia-y-derechos-humanos-una-mirada-desde-la-juventud/
CATEGORIES:Conferencia,Curso virtual,Diplomado
END:VEVENT
END:VCALENDAR